Workbook
Name Activos: #REF!
Name Activos: #REF!
Name Activos: #REF!
Name Activos: #REF!
Name Amenazas: #REF!
Name Amenazas: #REF!
Name Amenazas: #REF!
Name Amenazas: #REF!
Name Atributos: [1]CriteriosEvaluacion!$E$25:$E$26
Name CR: #REF!
Name CR: #REF!
Name CR: #REF!
Name CR: #REF!
Name CR: #REF!
Name CR: #REF!
Name CRITICIDAD: #REF!
Name CRITICIDAD: #REF!
Name CRITICIDAD: #REF!
Name CRITICIDAD: #REF!
Name CriticidadResidual: '[2]Matriz de Riesgos'!#REF!
Name CriticidadResidual: '[2]Matriz de Riesgos'!#REF!
Name CriticidadResidual: '[2]Matriz de Riesgos'!#REF!
Name CriticidadResidual: '[2]Matriz de Riesgos'!#REF!
Name CriticidadRiesgo: #REF!
Name CriticidadRiesgo: #REF!
Name CriticidadRiesgo: #REF!
Name CriticidadRiesgo: #REF!
Name CriticidadRiesgo: #REF!
Name CriticidadRiesgo: #REF!
Name Impactos: '[1]Consecuencias(Impacto)'!$B$1:$F$1
Name Matriz: #REF!
Name Matriz: #REF!
Name Matriz: #REF!
Name Matriz: #REF!
Name Matriz: #REF!
Name Matriz: #REF!
Name NAR: #REF!
Name NAR: #REF!
Name NAR: #REF!
Name NAR: #REF!
Name Privilegios: [1]CriteriosEvaluacion!$A$45:$A$49
Name RiesgosBrutos: '[2]Matriz de Riesgos'!#REF!
Name RiesgosBrutos: '[2]Matriz de Riesgos'!#REF!
Name RiesgosBrutos: '[2]Matriz de Riesgos'!#REF!
Name RiesgosBrutos: '[2]Matriz de Riesgos'!#REF!
Name RiesgosBrutos: '[2]Matriz de Riesgos'!#REF!
Name RiesgosBrutos: '[2]Matriz de Riesgos'!#REF!
Name RIESGOTODOS: #REF!
Name RIESGOTODOS: #REF!
Name RIESGOTODOS: #REF!
Name RIESGOTODOS: #REF!
Name RIESGOTODOS: #REF!
Name RIESGOTODOS: #REF!
Name TipoActivo: [1]TipologiaActivos!$A$4:$A$9
Name TOTACTIVOS: #REF!
Name TOTACTIVOS: #REF!
Name TOTACTIVOS: #REF!
Name TOTACTIVOS: #REF!
Name TOTACTIVOS: #REF!
Name TOTACTIVOS: #REF!

Sheet Contexto
C1: GESTIÓN DE LA MEJORA CONTINUA | G1: Código: GMC-PR-02-FR-01
G2: Versión: 04
C3: MAPA DE RIESGOS DE GESTIÓN,FISCAL,LA/FT Y CORRUPCIÓN | G3: Fecha: 15/08/2025
G4: Hoja 1 de 6
B6: CONTEXTO INSUMO PARA LA MATRIZ DE RIESGOS
B8: IDENTIFICACIÓN DEL CONTEXTO
B9: Identifique factores (negativos) o (positivos) que afectan al proceso
B10: CONTEXTO EXTERNO
B11: Factores del contexto
B12: A - AMENAZAS (factores negativos externos) | E12: O - OPORTUNIDADES (factores positivos externos)
B13: Identifique factores que representen una amenaza o una oportunidad en ejes como el: Económico, social y cultural, tecnológico, político, legales y reglamentarios, medio ambientales y de comunicación externa.
B14: Los cambios en lineamientos Nacionales y Distritales pueden requerir ajustes significativos en los procesos, operaciones y metas de indicadores de la SCRD | E14: Aplicar instrumentos de gestión para facilitar el análisis de la información del Sistema de Gestión
B15: La constante demanda de información por parte de los entes de control dificulta la planificación y ejecución de las iniciativas de mejora continua, al desviar los recursos y la atención del personal. | E15: Recibir asesoramiento, capacitación e instrumentos de gestión por parte la DAFP y la Secretaría General para la aplicación de temas relacionados con el sistema de gestión en la SCRD
B16: Las directrices dadas por entidades Distritales y Nacionales para atender nuevos requerimientos no previstos generan sobrecargas y obligan a priorizar su atención, afectando las acctividades de la gestión institucional planeadas. | E16: Tener en cuenta la medición de los diferentes índices de desempeño por parte del DAFP, Secretaría General y Veeduría Distrital para implementar mejoras en la gestión de la entidad.
B17: Recortes presupuestales que afectan al Sistema de Gestión, ya que se priorizan otros temas institucionales.
B27: CONTEXTO INTERNO
B28: Factores del contexto
B29: D - DEBILIDADES (factores negativos internos) | E29: F - FORTALEZAS (factores positivos internos)
B30: Identifique factores en los que la entidad tiene debilidades o fortalezas en temas como: Funciones y responsabilidades (políticas, objetivos y estrategias), personas, tecnología, estructura organizacional, financieros, relaciones con partes involucradas, estructura organizacional, diseño y ejecución del proceso.
B31: Falta fortalecer el conocimiento técnico en instrumentos de Gestión que se utiliza en la SCRD y así como desarrollar metodologias o estrategias para capacitar en los temas técnicos del Sistema de Gestión. | E31: Se cuenta con un equipo de profesionales con el estudio, conocimiento y experticia para desarrollar todas las acciones que se derivan del Sistema de Gestión
B32: Rotación del equipo de enlaces del Sistema de Gestión que afecta la continuidad de la debida aplicación de los instrumentos de gestión en cada proceso. | E32: Utilización de los medios tecnológicos para dar a conocer la información del Sistema de Gestión, como Cultured y tableros de control.
B33: Priorización de tareas a corto plazo y urgentes, lo cual , no permite tener mejores iniciativas de mejora a largo plazo afectando lo escencial para la mejora continua. | E33: Seguimiento y monitoreo a planes de mejoramiento internos, indicadores y riesgos.
B34: Resistencia al cambio en los equipos existentes al implementar nuevas formas de trabajo por las sobrecargas laborales. | E34: Se cuenta con un sistema de Gestión implementado y documentado
B35: Dificultades significativas en la adopción y utilización efectiva de herramientas tecnológicas para optimizar los procesos del Sistema de Gestión MIPG. | E35: Se cuenta con un equipo de profesionales ampliado en cada una de las áreas para implementar y sostener el Sistema de Gestión a nivel institucional
B36: Falta de comunicación y articulación entre los equipos de trabajo, así como, la apropiación de los procesos, documentación y los instrumentos de Gestión por parte de la comunidad institucional. | E36: A partir de los seguimientos se identifica retrasos, alertas y mejoras, lo cual, hace que el sistema de gestión sea dinamico.
B37: Desarticulación de los instrumentos de Gestión para que sean insumos para diferentes reportes y análisis de la gestión. | E37: Formulación de planes de mejoramiento a partir de los todas las observaciones y oportunidades detectadas por la segunda y tercera linea de defensa, generando acciones de mejora que permiten evitar la materialización de riesgos.
B38: Sobrecargas laborales a los enlaces del sistema de Gestión, debido a que atienden diferentes temas.
B47: Vigencia | C47: 2026 | D47: No. Edición del documento | E47: 1 | F47: Fecha última Edición | G47: 46052
B48: Descripción de las modificaciones | C48: Edición 1: caso GLPI # 141 092 29/01/2026 Creación de mapa de riesgos ORFEO Radicado no. 20261700089543 Modificaciones: 1.La valoración de la probabilidad inherente paso de Muy Alta a Alta, teniendo la adecuada aplicación de los controles 2. Se ajustó la redacción del riesgo de corrupción a partir de los nuevos lineamientos de la guía del DAFP v7 3. Se formuló los planes de tratamiento de los riesgos RG-GMC-01 y RC-GMC-01 para la vigencia 2026.

Sheet Identificación RG-RF-RLA-FT
C1: GESTIÓN DE LA MEJORA CONTINUA | G1: Código: GMC-PR-02-FR-01
G2: =Contexto!G2 -> Versión: 04
C3: MAPA DE RIESGOS DE GESTIÓN,FISCAL,LA/FT Y CORRUPCIÓN | G3: =Contexto!G3 -> Fecha: 15/08/2025
G4: Hoja 2 de 6
B6: APOYO PARA LA IDENTIFICACIÓN DE RIESGOS DE GESTIÓN -FISCALES Y LA/FT
B7: RIESGO 1
B8: Árbol de problemas
C9: Seleccione
B10: Efecto Impacto (DAFP) | C10: Reputacional | H10: QUE
G11: Si no existe un segundo efecto/consecuencia/causa coloque un espacio o un punto
B12: Efecto directo Consecuencias Causa inmediata (DAFP) | C12: Falencias recurrentes en la gestión de la entidad | F12: Reprocesos y retrasos del logro de los objetivos institucionales | H12: COMO
B14: PROBLEMA CENTRAL Evento de riesgo Causa raiz (DAFP) - Punto crítico en el producto - | C14: Dificultades en la apropiación efectiva del Sistema de Gestión por parte de la comunidad institucional | H14: POR QUÉ
B16: Causas | C16: Falta revisión y análisis de informes de segunda linea de defensa por por parte de los interesados | E16: Desconocimiento de los instrumentos de Gestión por parte de los enlaces del Sistema de Gestión MIPG | G16: Debilidades en el método de asesoramiento para transferir los temas técnicos del Sistema de Gestión MIPG
B18: Sub causas (desagregadas) - indicativas -
B20: REDACCIÓN DEL RIESGO | I20: Registrar información de acuerdo con tablas Factores y Clasificación-ver Fact-Clas RG
B21: Posibilidad de afectación (qué)…por… (cómo)...debido a (por qué) | I21: FACTORES | J21: CLASIFICACIÓN
B22: =IF(OR(C10="",C12="",F12="",C14=""),"",CONCATENATE($E$2," ",C10," ",$E$3," *",C12," *",F12,", ",$E$4," ",$C14)) -> Reputacional *Falencias recurrentes en la gestión de la entidad *Reprocesos y retrasos del logro de los objetivos institucionales, Dificultades en la apropiación efectiva del Sistema de Gestión por parte de la comunidad institucional | I22: Procesos | J22: Fraude Externo
B25: RIESGO 2
B26: Árbol de problemas
C27: Seleccione
B28: Efecto Impacto (DAFP) | H28: QUE
G29: Si no existe un segundo efecto/consecuencia/causa coloque un espacio o un punto
B30: Efecto directo Consecuencias Causa inmediata (DAFP) | H30: COMO
B32: PROBLEMA CENTRAL Evento de riesgo Causa raiz (DAFP) - Punto crítico en el producto - | H32: POR QUÉ
B34: Causas
B36: Sub causas (desagregadas) - indicativas -
B38: REDACCIÓN DEL RIESGO | I38: Registrar información de acuerdo con tablas Factores y Clasificación-ver Fact-Clas RG
B39: Posibilidad de afectación (qué)…por… (cómo)...debido a (por qué) | I39: FACTORES | J39: CLASIFICACIÓN
B40: =IF(OR(C28="",C30="",F30="",C32=""),"",CONCATENATE($E$2," ",C28," ",$E$3," *",C30," *",F30,", ",$E$4," ",$C32))
B43: RIESGO 3
B44: Árbol de problemas
C45: Seleccione
B46: Efecto Impacto (DAFP) | H46: QUE
G47: Si no existe un segundo efecto/consecuencia/causa coloque un espacio o un punto
B48: Efecto directo Consecuencias Causa inmediata (DAFP) | H48: COMO
B50: PROBLEMA CENTRAL Evento de riesgo Causa raiz (DAFP) - Punto crítico en el producto - | H50: POR QUÉ
B52: Causas
B54: Sub causas (desagregadas) - indicativas -
B56: REDACCIÓN DEL RIESGO | I56: Registrar información de acuerdo con tablas Factores y Clasificación-ver Fact-Clas RG
B57: =IF(OR(C46="",C48="",F48="",C50=""),"",CONCATENATE($E$2," ",C46," ",$E$3," *",C48," *",F48,", ",$E$4," ",$C50)) | I57: FACTORES | J57: CLASIFICACIÓN
...

Sheet MR G-F-LA
D1: GESTIÓN DE LA MEJORA CONTINUA | BD1: Código: GMC-PR-02-FR-01
BD2: =Contexto!G2 -> Versión: 04
D3: MAPA DE RIESGOS DE GESTIÓN,FISCAL,LA/FT Y CORRUPCIÓN | BD3: =Contexto!G3 -> Fecha: 15/08/2025
BD4: Hoja 3 de 6
A6: MATRIZ DE RIESGOS DE GESTIÓN , FISCAL, LAVADO DE ACTIVOS Y FINANCIACIÓN DE TERRORISMO (LA/FT)
A8: PROCESO | B8: OBJETIVO ESTRATÉGICO | C8: OBJETIVO DEL PROCESO | D8: IDENTIFICACIÓN DEL RIESGO | N8: VALORACIÓN DEL RIESGO - ANÁLISIS DE RIESGO INHERENTE | X8: EVALUACIÓN DEL RIESGO - VALORACIÓN DE LOS CONTROLES | AS8: EVALUACIÓN DEL RIESGO - NIVEL DE RIESGO RESIDUAL | BB8: PLAN DE TRATAMIENTO O MANEJO DE RIESGOS | BF8: ACCIONES DE CONTIGENCIA
L9: Indicador clave asociado al riesgo | N9: PROBABILIDAD | P9: IMPACTO | X9: DESCRIPCIÓN DEL CONTROL | AS9: Controles preventivos y detectivos afectan la PROBABILIDAD | AV9: Controles correctivos afectan el IMPACTO
D10: CÓDIGO RG -Gestión - RF - Fiscal - RLA/FT + Nomenclatura del proceso + consecutivo | G10: Producto asociado | H10: Tipo de riesgo (Solo para activos de información) | I10: DESCRIPCIÓN DEL RIESGO -IR A LA HOJA ÁRBOL - Riesgos de Gestión - LA/FT: Posibilidad de afectación (qué)…por… (cómo)...debido a (por qué)" Riesgos Fiscal: Posibilidad de efecto dañoso sobre bienes públicos /recursos públicos o intereses patrimoniales qué)…por… (cómo)...debido a (por qué)" | J10: Asociado directamente al Objetivo Estratégico | K10: Causas (Solo para riesgos de gestión) | L10: Indicador clave -Solo RG- | M10: Meta -Solo RG- | N10: PROBABILIDAD INHERENTE | P10: Económico | R10: Reputacional | T10: IMPACTO INHERENTE El mayor dato entre Económico y Reputacional | W10: ZONA DE RIESGO INHERENTE | X10: No | Y10: Responsable | Z10: Periodicidad | AA10: Propósito | AB10: Cómo se realiza el contro | AC10: Observación o Desviación | AD10: Evidencia | AE10: CONTROL (Redactar un párrafo de control basándose en la información de las columnas Y a AD) | AF10: Control de línea de defensa -Responsable | AG10: Documento asociado - actividad | AH10: Afectación | AI10: Seleccione si el control Preventivo, Detectivo o Correctivo | AK10: Implementación | AM10: CALIFICACIÓN | AN10: Probabilidad Residual | AO10: Impacto Residual | AP10: Documentación | AQ10: Frecuencia | AR10: Evidencia | AS10: Probabilidad Inherente | AT10: Probabilidad Residual Final | AV10: Impacto Inherente | AW10: Impacto Residual Final | AY10: Zona de Riesgo Inherente | AZ10: ZONA DE RIESGO FINAL | BA10: TRATAMIENTO | BB10: ACTIVIDADES/PRODUCTO | BC10: RESPONSABLES | BD10: FECHA INICIO | BE10: FECHA FINAL
A11: Gestión de la Mejora Continua | B11: 2.Optimizar la gestión de la Secretaría Distrital de Cultura, Recreación y Deporte y de las entidades que conforman el sector, articulando e implementando procesos que den soluciones eficaces a las necesidades y expectativas de la ciudadanía. | C11: Liderar la mejora continua de los procesos, mediante la formulación, implementación y monitoreo de lineamientos, planes, políticas institucionales. Esto incluye el seguimiento de los instrumentos de gestión, la identificación de oportunidades de mejora, asegurando su eficacia y contribuyendo directamente al cumplimiento de los objetivos de la Secretaría Distrital de Cultura, Recreación y Deporte. | D11: RG | E11: GMC | F11: 1 | G11: Políticas MIPG (autodiagnósticos) Documentos del SG-MIPG Riesgos Planes de mejoramiento Indicadores de gestión | I11: Posibilidad de afectación reputacional por falencias recurrentes en la gestión, lo que se manifiesta en reprocesos, retrasos, incumplimiento de objetivos y un puntaje bajo en la Evaluación Independiente del Sistema de Control Interno , debido a dificultades en la apropiación efectiva del Sistema de Gestión por parte de la comunidad institucional | J11: SI | K11: =CONCATENATE(" *",'Identificación RG-RF-RLA-FT'!C16," *",'Identificación RG-RF-RLA-FT'!E16," *",'Identificación RG-RF-RLA-FT'!G16) -> *Falta revisión y análisis de informes de segunda linea de defensa por por parte de los interesados *Desconocimiento de los instrumentos de Gestión por parte de los enlaces del Sistema de Gestión MIPG *Debilidades en el método de asesoramiento para transferir los temas técnicos del Sistema de Gestión MIPG | L11: Evaluación indenpendiente del Sistema de Control Interno - semestral | M11: 0.85 | N11: Alta | O11: =IF(N11="Muy Alta",100%,IF(N11="Alta",80%,IF(N11="Media",60%,IF(N11="Baja",40%,IF(N11="Muy Baja",20%,""))))) -> 0.8 | P11: Leve | Q11: =IF(P11="Catastrófico",100%,IF(P11="Mayor",80%,IF(P11="Moderado",60%,IF(P11="Menor",40%,IF(P11="Leve",20%,""))))) -> 0.2 | R11: Moderado | S11: =IF(R11="Catastrófico",100%,IF(R11="Mayor",80%,IF(R11="Moderado",60%,IF(R11="Menor",40%,IF(R11="Leve",20%,""))))) -> 0.6 | T11: =IF(U11=100%,"Catastrófico",IF(U11=80%,"Mayor",IF(U11=60%,"Moderado",IF(U11=40%,"Menor",IF(U11=20%,"Leve",""))))) -> Moderado | U11: =IF(AND(Q11="",S11=""),"",MAX(Q11,S11)) -> 0.6 | V11: =CONCATENATE(N11,T11) -> AltaModerado | W11: =IF(V11="Muy AltaLeve","Alto",IF(V11="Muy AltaMenor","Alto",IF(V11="Muy AltaModerado","Alto",IF(V11="Muy AltaMayor","Alto",IF(V11="Muy AltaCatastrófico","Extremo",IF(V11="AltaLeve","Moderado",IF(V11="AltaMenor","Moderado",IF(V11="AltaModerado","Alto",IF(V11="AltaMayor","Alto",IF(V11="AltaCatastrófico","Extremo",IF(V11="MediaLeve","Moderado",IF(V11="MediaMenor","Moderado",IF(V11="MediaModerado","Moderado",IF(V11="MediaMayor","Alto",IF(V11="MediaCatastrófico","Extremo",IF(V11="BajaLeve","Bajo",IF(V11="BajaMenor","Moderado",IF(V11="BajaModerado","Moderado",IF(V11="BajaMayor","Alto",IF(V11="BajaCatastrófico","Extremo",IF(V11="Muy BajaLeve","Bajo",IF(V11="Muy BajaMenor","Bajo",IF(V11="Muy BajaModerado","Moderado",IF(V11="Muy BajaMayor","Alto",IF(V11="Muy BajaCatastrófico","Extremo",""))))))))))))))))))))))))) -> Alto | X11: 1 | Y11: El profesional OAP- MIPG | Z11: cada vez que reciba una solicitud de trámite de documentos (Creación, Modificación o eliminación) | AA11: verificará que el documento cumpla con los criterios técnicos y los anexos correspondientes | AB11: Las revisiones del documento quedan en documento compartido en Drive y/o en GLPI | AC11: de no cumplir estos requisitos se remitirá las instrucciones de ajuste mediante la herramienta GLPI I, hasta asegurar el cumplimiento de los requisitos para finalizar la solicitud. | AD11: La evidencia de las revisiones queda en caso de GLPI. | AE11: El profesional OAP- MIPG, cada vez que reciba una solicitud de trámite de documentos (creación, modificación o eliminación), verificará que el documento cumpla con los criterios técnicos y los anexos correspondientes, las revisiones del documento quedan en documento compartido en Drive y/o en GLPI, de no cumplir estos requisitos se remitirá las instrucciones de ajuste mediante la herramienta GLPI, hasta asegurar el cumplimiento de los requisitos para finalizar la solicitud. La evidencia de las revisiones queda en el caso de GLPI. | AF11: Segunda línea | AG11: GMC-PR-01 CREACIÓN Y CONTROL DE DOCUMENTOS | AH11: =IF(OR(AI11="Preventivo",AI11="Detectivo"),"Probabilidad",IF(AI11="Correctivo","Impacto","")) -> Probabilidad | AI11: Preventivo | AJ11: =IF(AI11="","",IF(AI11="Preventivo",25%,IF(AI11="Detectivo",15%,IF(AI11="Correctivo",10%)))) -> 0.25 | AK11: Manual | AL11: =IF(AK11="Automático",25%,IF(AK11="Manual",15%,"")) -> 0.15 | AM11: =IF(OR(AJ11="",AL11=""),"",AJ11+AL11) -> 0.4 | AN11: =IFERROR(IF(AH11="Probabilidad",(O11-(+O11*AM11)),IF(AH11="Impacto",O11,"")),"") -> 0.48 | AO11: =IFERROR(IF(AH11="Impacto",(U11-(U11*AM11)),IF(AH11="Probabilidad",U11,"")),"") -> 0.6 | AS11: =O11 -> 0.8 | AT11: =IF(AN11="","",MIN(AN11:AN16)) -> 0.12096 | AU11: =IFERROR(IF(AT11="","",IF(AT11<=0.2,"Muy Baja",IF(AT11<=0.4,"Baja",IF(AT11<=0.6,"Media",IF(AT11<=0.8,"Alta","Muy Alta"))))),"") -> Muy Baja | AV11: =U11 -> 0.6 | AW11: =IF(AO11="","",MIN(AO11:AO16)) -> 0.6 | AX11: =IFERROR(IF(AW11="","",IF(AW11<=0.2,"Leve",IF(AW11<=0.4,"Menor",IF(AW11<=0.6,"Moderado",IF(AW11<=0.8,"Mayor","Catastrófico"))))),"") -> Moderado | AY11: =W11 -> Alto | AZ11: =IFERROR(IF(OR(AND(AU11="Muy Baja",AX11="Leve"),AND(AU11="Muy Baja",AX11="Menor"),AND(AU11="Baja",AX11="Leve")),"Bajo",IF(OR(AND(AU11="Muy baja",AX11="Moderado"),AND(AU11="Baja",AX11="Menor"),AND(AU11="Baja",AX11="Moderado"),AND(AU11="Media",AX11="Leve"),AND(AU11="Media",AX11="Menor"),AND(AU11="Media",AX11="Moderado"),AND(AU11="Alta",AX11="Leve"),AND(AU11="Alta",AX11="Menor")),"Moderado",IF(OR(AND(AU11="Muy Baja",AX11="Mayor"),AND(AU11="Baja",AX11="Mayor"),AND(AU11="Media",AX11="Mayor"),AND(AU11="Alta",AX11="Moderado"),AND(AU11="Alta",AX11="Mayor"),AND(AU11="Muy Alta",AX11="Leve"),AND(AU11="Muy Alta",AX11="Menor"),AND(AU11="Muy Alta",AX11="Moderado"),AND(AU11="Muy Alta",AX11="Mayor")),"Alto",IF(OR(AND(AU11="Muy Baja",AX11="Catastrófico"),AND(AU11="Baja",AX11="Catastrófico"),AND(AU11="Media",AX11="Catastrófico"),AND(AU11="Alta",AX11="Catastrófico"),AND(AU11="Muy Alta",AX11="Catastrófico")),"Extremo","")))),"") -> Moderado | BA11: Reducir | BB11: Implementación de un Tablero de control institucional (Dashboard) para la gestión, seguimiento de hallazgos y recomendaciones de la Mejora continua que permita la mitigación de fallas operativas y fortalecimiento del Control Interno. 1. Identificar las fuentes de información (bases de datos, reportes de PQRS, informes de auditoría) que alimentan presenten los reprocesos, retrasos e incumplimientos. Producto: Historia de usuario del Tablero de Control 2. Diseñar el tablero de control y estructurar los indicadores que permitirán visualizar el estado real de la gestión institucional y las brechas de control interno. Producto: Boceto de tablero de control 3. Construir y cargar los datos en la herramienta tecnológica para validar la integridad de la información y la generación de alertas. Producto: Enlace de tablero de control - primera versión 4. Puesta en marcha oficial de la herramienta Producto: Acta de Socialización y Guía de Uso del Tablero | BC11: Equipo MIPG OAP | BD11: 1.02/02/2026 2.15/04/2026 3.06/07/2026 4.15/09/2026 | BE11: 1.15/04/2026 2. 26/06/2026 3.11/09/2026 4.30/10/2026 | BF11: 1. Informar de materizalización de riesgo por correo a la OAP y la OCI, relacionando la situación prestanda y las acciones a tomar 2. Formular acción correctiva en la cual, se convoque a equipo MIPG que deberá dedicarse a identificar las causas específicas de las falencias y los retrasos. Esto puede incluir un análisis de los procesos, una evaluación de la capacitación del personal y una revisión de la apropiación del Sistema de Gestión. 3.Se debe convocar de inmediato al equipo de MIPG (. La prioridad es centralizar la información y coordinar una respuesta unificada. Comunicación interna: Informar a la comunidad institucional sobre la situación de manera transparente. Esto evita rumores y demuestra que se está tomando el problema en serio. Se debe reforzar el rol de los líderesde porcesos y gestores de MIPG para que sean voceros del cambio. 4.Se debe establecer un sistema de seguimiento semanal o quincenal para monitorear el progreso de las acciones correctivas. Esto permite detectar problemas a tiempo y mostrar resultados a la comunidad interna y externa. 5.Actualizar el mapa de riesgos con las lecciones aprendidas de esta crisis, fortaleciendo los controles preventivos y las acciones de contingencia para evitar una recurrencia.
X12: 2 | Y12: El profesional OAP- MIPG | Z12: cada vez que la OCI registre los hallazgos en el módulo de control Interno | AA12: Posterior a los 10 días del informe final de auditoría verifica la formulación de los planes de mejoramiento | AB12: Se revisa que contenga el análisis de causas y este diligenciado completamente y se haya realizado el registro de plan (actividad, meta, responsable, indicador y evidencias) | AC12: En caso de identificar inconsistencias o áreas de mejora, registra sus observaciones y recomendaciones en el módulo, según el instructivo GMC-IT-01 | AD12: La evidencia de las observaciones se evidencian en el módulo de Planes de Mejoramiento | AE12: El profesional OAP- MIPG cada vez que la OCI registra los hallazgos en el módulo de control Interno posterior a los 10 días del informe final de auditoría, verifica la formulación de los planes de mejoramiento y revisa que contenga el análisis de causas y este diligenciado completamente y se haya realizado el registro de plan (actividad, meta, responsable, indicador y evidencias) .En caso de identificar inconsistencias o áreas de mejora, registra sus observaciones y recomendaciones en el módulo, según el instructivo GMC-IT-01. La evidencia de las observaciones se evidencian en el módulo de Planes de Mejoramiento | AF12: Segunda línea | AG12: GMC-PR-04 Formulación seguimiento y evaluación a planes de mejoramiento | AH12: =IF(OR(AI12="Preventivo",AI12="Detectivo"),"Probabilidad",IF(AI12="Correctivo","Impacto","")) -> Probabilidad | AI12: Preventivo | AJ12: =IF(AI12="","",IF(AI12="Preventivo",25%,IF(AI12="Detectivo",15%,IF(AI12="Correctivo",10%)))) -> 0.25 | AK12: Manual | AL12: =IF(AK12="Automático",25%,IF(AK12="Manual",15%,"")) -> 0.15 | AM12: =IF(OR(AJ12="",AL12=""),"",AJ12+AL12) -> 0.4 | AN12: =IFERROR(IF(AND(AH11="Probabilidad",AH12="Probabilidad"),(AN11-(+AN11*AM12)),IF(AH12="Probabilidad",(O11-(+O11*AM12)),IF(AH12="Impacto",AN11,""))),"") -> 0.288 | AO12: =IFERROR(IF(AND(AH11="Impacto",AH12="Impacto"),(AO11-(+AO11*AM12)),IF(AH12="Impacto",(U11-(+U11*AM12)),IF(AH12="Probabilidad",AO11,""))),"") -> 0.6
X13: 3 | Y13: El profesional designado por la OAP-OTI | Z13: cada vez que reciba una solicitud | AA13: revisar la coherencia en la aplicación de la metodología, en la identificación, análisis, valoración y tratamiento del riesgo | AB13: verificando el correcto diligenciamiento del mapa de riesgos | AC13: de no cumplir con las condiciones metodológicas se realizará las observaciones correspondientes y se devolverá al proceso para su ajustes | AD13: se evidencia en la trazabilidad del caso GLPI. | AE13: El profesional designado por la OAP-OTI, cada vez que se reciba una solicitud de caso GLPI para (Crear, modificar o eliminar) debe revisar la coherencia en la aplicación de la metodología, en la identificación, análisis, valoración y tratamiento del riesgo , verificando el correcto diligenciamiento del mapa de riesgos, de no cumplir con las condiciones metodológicas se realizará las observaciones correspondientes y se devolverá al proceso para su ajustes. Lo anterior, se evidencia en la trazabilidad del caso GLPI. | AF13: Segunda línea | AG13: GMC-PR-02 Gestión de riesgos de corrupción, seguridad de la información, gestión, fiscal y LA/FT | AH13: =IF(OR(AI13="Preventivo",AI13="Detectivo"),"Probabilidad",IF(AI13="Correctivo","Impacto","")) -> Probabilidad | AI13: Preventivo | AJ13: =IF(AI13="","",IF(AI13="Preventivo",25%,IF(AI13="Detectivo",15%,IF(AI13="Correctivo",10%)))) -> 0.25 | AK13: Manual | AL13: =IF(AK13="Automático",25%,IF(AK13="Manual",15%,"")) -> 0.15 | AM13: =IF(OR(AJ13="",AL13=""),"",AJ13+AL13) -> 0.4 | AN13: =IFERROR(IF(AND(AH12="Probabilidad",AH13="Probabilidad"),(AN12-(+AN12*AM13)),IF(AND(AH12="Impacto",AH13="Probabilidad"),(AN11-(+AN11*AM13)),IF(AH13="Impacto",AN12,""))),"") -> 0.1728 | AO13: =IFERROR(IF(AND(AH12="Impacto",AH13="Impacto"),(AO12-(+AO12*AM13)),IF(AND(AH12="Probabilidad",AH13="Impacto"),(AO11-(+AO11*AM13)),IF(AH13="Probabilidad",AO12,""))),"") -> 0.6
X14: 4 | Y14: El profesional OAP- MIPG | Z14: Informe Trimestral | AA14: Realizar el monitoreo y análisis trimestral de los indicadores de gestión institucionales para evaluar el cumplimiento de metas, identificar desviaciones, generar alertas tempranas que puedan afectar el logro de objetivos, y proporcionar información confiable para la toma de decisiones estrategicas. | AB14: La Oficina Asesora de Planeación consolida la información reportada por los procesos a través del sistema CultuRed, verifica la consistencia de datos mediante cruce con evidencias radicadas en Orfeo, valida el cumplimiento de rangos de gestión establecidos (satisfactorio, aceptable, crítico), analiza tendencias históricas, evalúa la calidad de las fuentes de verificación, y elabora el informe trimestral con análisis cualitativo y cuantitativo de cada indicador, incluyendo recomendaciones específicas para cada proceso. | AC14: Cuando se identifican indicadores en rango crítico, información inconsistente, ausencia de evidencias, desviaciones significativas respecto a metas programadas, o reportes extemporáneos, la OAP documenta la observación en el informe trimestral, solicita alcances a los procesos involucrados, establece recomendaciones específicas, y en casos críticos solicita acciones de mejora e implementación de medidas correctivas. | AD14: La evidencia se sustenta en el informe trimestral consolidado, publicado en el link de transparencia del sitio web institucional, radicado en ORFEO y socializado mediante el correo institucional. | AE14: El profesional OAP-MIPG de manera trimestral, realiza un informe consolidado que sistematiza y valida los datos de los indicadores de gestión cargados en CultuRed contra las evidencias radicadas en Orfeo; verifica el cumplimiento de los rangos de gestión (satisfactorio, aceptable, crítico), analiza tendencias históricas y documenta cualquier inconsistencia, desviación o falta de evidencia, para luego emitir recomendaciones y solicitar acciones correctivas. La totalidad de la información y las observaciones quedan registradas en el informe, publicado en el portal de transparencia institucional, radicado en Orfeo y difundido por correo institucional. | AF14: Segunda línea | AG14: DES-PR-04 Procedimiento Administración de Indicadores | AH14: =IF(OR(AI14="Preventivo",AI14="Detectivo"),"Probabilidad",IF(AI14="Correctivo","Impacto","")) -> Probabilidad | AI14: Detectivo | AJ14: =IF(AI14="","",IF(AI14="Preventivo",25%,IF(AI14="Detectivo",15%,IF(AI14="Correctivo",10%)))) -> 0.15 | AK14: Manual | AL14: =IF(AK14="Automático",25%,IF(AK14="Manual",15%,"")) -> 0.15 | AM14: =IF(OR(AJ14="",AL14=""),"",AJ14+AL14) -> 0.3 | AN14: =IFERROR(IF(AND(AH13="Probabilidad",AH14="Probabilidad"),(AN13-(+AN13*AM14)),IF(AND(AH13="Impacto",AH14="Probabilidad"),(AN12-(+AN12*AM14)),IF(AH14="Impacto",AN13,""))),"") -> 0.12096 | AO14: =IFERROR(IF(AND(AH13="Impacto",AH14="Impacto"),(AO13-(+AO13*AM14)),IF(AND(AH13="Probabilidad",AH14="Impacto"),(AO12-(+AO12*AM14)),IF(AH14="Probabilidad",AO13,""))),"") -> 0.6
X15: 5 | AH15: =IF(OR(AI15="Preventivo",AI15="Detectivo"),"Probabilidad",IF(AI15="Correctivo","Impacto","")) | AJ15: =IF(AI15="","",IF(AI15="Preventivo",25%,IF(AI15="Detectivo",15%,IF(AI15="Correctivo",10%)))) | AL15: =IF(AK15="Automático",25%,IF(AK15="Manual",15%,"")) | AM15: =IF(OR(AJ15="",AL15=""),"",AJ15+AL15) | AN15: =IFERROR(IF(AND(AH14="Probabilidad",AH15="Probabilidad"),(AN14-(+AN14*AM15)),IF(AND(AH14="Impacto",AH15="Probabilidad"),(AN13-(+AN13*AM15)),IF(AH15="Impacto",AN14,""))),"") | AO15: =IFERROR(IF(AND(AH14="Impacto",AH15="Impacto"),(AO14-(+AO14*AM15)),IF(AND(AH14="Probabilidad",AH15="Impacto"),(AO13-(+AO13*AM15)),IF(AH15="Probabilidad",AO14,""))),"")
X16: 6 | AH16: =IF(OR(AI16="Preventivo",AI16="Detectivo"),"Probabilidad",IF(AI16="Correctivo","Impacto","")) | AJ16: =IF(AI16="","",IF(AI16="Preventivo",25%,IF(AI16="Detectivo",15%,IF(AI16="Correctivo",10%)))) | AL16: =IF(AK16="Automático",25%,IF(AK16="Manual",15%,"")) | AM16: =IF(OR(AJ16="",AL16=""),"",AJ16+AL16) | AN16: =IFERROR(IF(AND(AH15="Probabilidad",AH16="Probabilidad"),(AN15-(+AN15*AM16)),IF(AND(AH15="Impacto",AH16="Probabilidad"),(AN14-(+AN14*AM16)),IF(AH16="Impacto",AN15,""))),"") | AO16: =IFERROR(IF(AND(AH15="Impacto",AH16="Impacto"),(AO15-(+AO15*AM16)),IF(AND(AH15="Probabilidad",AH16="Impacto"),(AO14-(+AO14*AM16)),IF(AH16="Probabilidad",AO15,""))),"")
K17: =CONCATENATE(" *",'Identificación RG-RF-RLA-FT'!C34," *",'Identificación RG-RF-RLA-FT'!E34," *",'Identificación RG-RF-RLA-FT'!G34) -> * * * | O17: =IF(N17="Muy Alta",100%,IF(N17="Alta",80%,IF(N17="Media",60%,IF(N17="Baja",40%,IF(N17="Muy Baja",20%,""))))) | Q17: =IF(P17="Catastrófico",100%,IF(P17="Mayor",80%,IF(P17="Moderado",60%,IF(P17="Menor",40%,IF(P17="Leve",20%,""))))) | S17: =IF(R17="Catastrófico",100%,IF(R17="Mayor",80%,IF(R17="Moderado",60%,IF(R17="Menor",40%,IF(R17="Leve",20%,""))))) | T17: =IF(U17=100%,"Catastrófico",IF(U17=80%,"Mayor",IF(U17=60%,"Moderado",IF(U17=40%,"Menor",IF(U17=20%,"Leve",""))))) | U17: =IF(AND(Q17="",S17=""),"",MAX(Q17,S17)) | V17: =CONCATENATE(N17,T17) | W17: =IF(V17="Muy AltaLeve","Alto",IF(V17="Muy AltaMenor","Alto",IF(V17="Muy AltaModerado","Alto",IF(V17="Muy AltaMayor","Alto",IF(V17="Muy AltaCatastrófico","Extremo",IF(V17="AltaLeve","Moderado",IF(V17="AltaMenor","Moderado",IF(V17="AltaModerado","Alto",IF(V17="AltaMayor","Alto",IF(V17="AltaCatastrófico","Extremo",IF(V17="MediaLeve","Moderado",IF(V17="MediaMenor","Moderado",IF(V17="MediaModerado","Moderado",IF(V17="MediaMayor","Alto",IF(V17="MediaCatastrófico","Extremo",IF(V17="BajaLeve","Bajo",IF(V17="BajaMenor","Moderado",IF(V17="BajaModerado","Moderado",IF(V17="BajaMayor","Alto",IF(V17="BajaCatastrófico","Extremo",IF(V17="Muy BajaLeve","Bajo",IF(V17="Muy BajaMenor","Bajo",IF(V17="Muy BajaModerado","Moderado",IF(V17="Muy BajaMayor","Alto",IF(V17="Muy BajaCatastrófico","Extremo",""))))))))))))))))))))))))) | X17: 1 | AH17: =IF(OR(AI17="Preventivo",AI17="Detectivo"),"Probabilidad",IF(AI17="Correctivo","Impacto","")) | AJ17: =IF(AI17="","",IF(AI17="Preventivo",25%,IF(AI17="Detectivo",15%,IF(AI17="Correctivo",10%)))) | AL17: =IF(AK17="Automático",25%,IF(AK17="Manual",15%,"")) | AM17: =IF(OR(AJ17="",AL17=""),"",AJ17+AL17) | AN17: =IFERROR(IF(AH17="Probabilidad",(O17-(+O17*AM17)),IF(AH17="Impacto",O17,"")),"") | AO17: =IFERROR(IF(AH17="Impacto",(U17-(+U17*AM17)),IF(AH17="Probabilidad",U17,"")),"") | AS17: =O17 | AT17: =IF(AN17="","",MIN(AN17:AN22)) | AU17: =IFERROR(IF(AT17="","",IF(AT17<=0.2,"Muy Baja",IF(AT17<=0.4,"Baja",IF(AT17<=0.6,"Media",IF(AT17<=0.8,"Alta","Muy Alta"))))),"") | AV17: =U17 | AW17: =IF(AO17="","",MIN(AO17:AO22)) | AX17: =IFERROR(IF(AW17="","",IF(AW17<=0.2,"Leve",IF(AW17<=0.4,"Menor",IF(AW17<=0.6,"Moderado",IF(AW17<=0.8,"Mayor","Catastrófico"))))),"") | AY17: =W17 | AZ17: =IFERROR(IF(OR(AND(AU17="Muy Baja",AX17="Leve"),AND(AU17="Muy Baja",AX17="Menor"),AND(AU17="Baja",AX17="Leve")),"Bajo",IF(OR(AND(AU17="Muy baja",AX17="Moderado"),AND(AU17="Baja",AX17="Menor"),AND(AU17="Baja",AX17="Moderado"),AND(AU17="Media",AX17="Leve"),AND(AU17="Media",AX17="Menor"),AND(AU17="Media",AX17="Moderado"),AND(AU17="Alta",AX17="Leve"),AND(AU17="Alta",AX17="Menor")),"Moderado",IF(OR(AND(AU17="Muy Baja",AX17="Mayor"),AND(AU17="Baja",AX17="Mayor"),AND(AU17="Media",AX17="Mayor"),AND(AU17="Alta",AX17="Moderado"),AND(AU17="Alta",AX17="Mayor"),AND(AU17="Muy Alta",AX17="Leve"),AND(AU17="Muy Alta",AX17="Menor"),AND(AU17="Muy Alta",AX17="Moderado"),AND(AU17="Muy Alta",AX17="Mayor")),"Alto",IF(OR(AND(AU17="Muy Baja",AX17="Catastrófico"),AND(AU17="Baja",AX17="Catastrófico"),AND(AU17="Media",AX17="Catastrófico"),AND(AU17="Alta",AX17="Catastrófico"),AND(AU17="Muy Alta",AX17="Catastrófico")),"Extremo","")))),"")
X18: 2 | AH18: =IF(OR(AI18="Preventivo",AI18="Detectivo"),"Probabilidad",IF(AI18="Correctivo","Impacto","")) | AJ18: =IF(AI18="","",IF(AI18="Preventivo",25%,IF(AI18="Detectivo",15%,IF(AI18="Correctivo",10%)))) | AL18: =IF(AK18="Automático",25%,IF(AK18="Manual",15%,"")) | AM18: =IF(OR(AJ18="",AL18=""),"",AJ18+AL18) | AN18: =IFERROR(IF(AND(AH17="Probabilidad",AH18="Probabilidad"),(AN17-(+AN17*AM18)),IF(AH18="Probabilidad",(O17-(+O17*AM18)),IF(AH18="Impacto",AN17,""))),"") | AO18: =IFERROR(IF(AND(AH17="Impacto",AH18="Impacto"),(AO17-(+AO17*AM18)),IF(AH18="Impacto",(U17-(+U17*AM18)),IF(AH18="Probabilidad",AO17,""))),"")
X19: 3 | AH19: =IF(OR(AI19="Preventivo",AI19="Detectivo"),"Probabilidad",IF(AI19="Correctivo","Impacto","")) | AJ19: =IF(AI19="","",IF(AI19="Preventivo",25%,IF(AI19="Detectivo",15%,IF(AI19="Correctivo",10%)))) | AL19: =IF(AK19="Automático",25%,IF(AK19="Manual",15%,"")) | AM19: =IF(OR(AJ19="",AL19=""),"",AJ19+AL19) | AN19: =IFERROR(IF(AND(AH18="Probabilidad",AH19="Probabilidad"),(AN18-(+AN18*AM19)),IF(AND(AH18="Impacto",AH19="Probabilidad"),(AN17-(+AN17*AM19)),IF(AH19="Impacto",AN18,""))),"") | AO19: =IFERROR(IF(AND(AH18="Impacto",AH19="Impacto"),(AO18-(+AO18*AM19)),IF(AND(AH18="Probabilidad",AH19="Impacto"),(AO17-(+AO17*AM19)),IF(AH19="Probabilidad",AO18,""))),"")
X20: 4 | AH20: =IF(OR(AI20="Preventivo",AI20="Detectivo"),"Probabilidad",IF(AI20="Correctivo","Impacto","")) | AJ20: =IF(AI20="","",IF(AI20="Preventivo",25%,IF(AI20="Detectivo",15%,IF(AI20="Correctivo",10%)))) | AL20: =IF(AK20="Automático",25%,IF(AK20="Manual",15%,"")) | AM20: =IF(OR(AJ20="",AL20=""),"",AJ20+AL20) | AN20: =IFERROR(IF(AND(AH19="Probabilidad",AH20="Probabilidad"),(AN19-(+AN19*AM20)),IF(AND(AH19="Impacto",AH20="Probabilidad"),(AN18-(+AN18*AM20)),IF(AH20="Impacto",AN19,""))),"") | AO20: =IFERROR(IF(AND(AH19="Impacto",AH20="Impacto"),(AO19-(+AO19*AM20)),IF(AND(AH19="Probabilidad",AH20="Impacto"),(AO18-(+AO18*AM20)),IF(AH20="Probabilidad",AO19,""))),"")
X21: 5 | AH21: =IF(OR(AI21="Preventivo",AI21="Detectivo"),"Probabilidad",IF(AI21="Correctivo","Impacto","")) | AJ21: =IF(AI21="","",IF(AI21="Preventivo",25%,IF(AI21="Detectivo",15%,IF(AI21="Correctivo",10%)))) | AL21: =IF(AK21="Automático",25%,IF(AK21="Manual",15%,"")) | AM21: =IF(OR(AJ21="",AL21=""),"",AJ21+AL21) | AN21: =IFERROR(IF(AND(AH20="Probabilidad",AH21="Probabilidad"),(AN20-(+AN20*AM21)),IF(AND(AH20="Impacto",AH21="Probabilidad"),(AN19-(+AN19*AM21)),IF(AH21="Impacto",AN20,""))),"") | AO21: =IFERROR(IF(AND(AH20="Impacto",AH21="Impacto"),(AO20-(+AO20*AM21)),IF(AND(AH20="Probabilidad",AH21="Impacto"),(AO19-(+AO19*AM21)),IF(AH21="Probabilidad",AO20,""))),"")
X22: 6 | AH22: =IF(OR(AI22="Preventivo",AI22="Detectivo"),"Probabilidad",IF(AI22="Correctivo","Impacto","")) | AJ22: =IF(AI22="","",IF(AI22="Preventivo",25%,IF(AI22="Detectivo",15%,IF(AI22="Correctivo",10%)))) | AL22: =IF(AK22="Automático",25%,IF(AK22="Manual",15%,"")) | AM22: =IF(OR(AJ22="",AL22=""),"",AJ22+AL22) | AN22: =IFERROR(IF(AND(AH21="Probabilidad",AH22="Probabilidad"),(AN21-(+AN21*AM22)),IF(AND(AH21="Impacto",AH22="Probabilidad"),(AN20-(+AN20*AM22)),IF(AH22="Impacto",AN21,""))),"") | AO22: =IFERROR(IF(AND(AH21="Impacto",AH22="Impacto"),(AO21-(+AO21*AM22)),IF(AND(AH21="Probabilidad",AH22="Impacto"),(AO20-(+AO20*AM22)),IF(AH22="Probabilidad",AO21,""))),"")
K23: =CONCATENATE(" *",'Identificación RG-RF-RLA-FT'!C52," *",'Identificación RG-RF-RLA-FT'!E52," *",'Identificación RG-RF-RLA-FT'!G52) -> * * * | O23: =IF(N23="Muy Alta",100%,IF(N23="Alta",80%,IF(N23="Media",60%,IF(N23="Baja",40%,IF(N23="Muy Baja",20%,""))))) | Q23: =IF(P23="Catastrófico",100%,IF(P23="Mayor",80%,IF(P23="Moderado",60%,IF(P23="Menor",40%,IF(P23="Leve",20%,""))))) | S23: =IF(R23="Catastrófico",100%,IF(R23="Mayor",80%,IF(R23="Moderado",60%,IF(R23="Menor",40%,IF(R23="Leve",20%,""))))) | T23: =IF(U23=100%,"Catastrófico",IF(U23=80%,"Mayor",IF(U23=60%,"Moderado",IF(U23=40%,"Menor",IF(U23=20%,"Leve",""))))) | U23: =IF(AND(Q23="",S23=""),"",MAX(Q23,S23)) | V23: =CONCATENATE(N23,T23) | W23: =IF(V23="Muy AltaLeve","Alto",IF(V23="Muy AltaMenor","Alto",IF(V23="Muy AltaModerado","Alto",IF(V23="Muy AltaMayor","Alto",IF(V23="Muy AltaCatastrófico","Extremo",IF(V23="AltaLeve","Moderado",IF(V23="AltaMenor","Moderado",IF(V23="AltaModerado","Alto",IF(V23="AltaMayor","Alto",IF(V23="AltaCatastrófico","Extremo",IF(V23="MediaLeve","Moderado",IF(V23="MediaMenor","Moderado",IF(V23="MediaModerado","Moderado",IF(V23="MediaMayor","Alto",IF(V23="MediaCatastrófico","Extremo",IF(V23="BajaLeve","Bajo",IF(V23="BajaMenor","Moderado",IF(V23="BajaModerado","Moderado",IF(V23="BajaMayor","Alto",IF(V23="BajaCatastrófico","Extremo",IF(V23="Muy BajaLeve","Bajo",IF(V23="Muy BajaMenor","Bajo",IF(V23="Muy BajaModerado","Moderado",IF(V23="Muy BajaMayor","Alto",IF(V23="Muy BajaCatastrófico","Extremo",""))))))))))))))))))))))))) | X23: 1 | AH23: =IF(OR(AI23="Preventivo",AI23="Detectivo"),"Probabilidad",IF(AI23="Correctivo","Impacto","")) | AJ23: =IF(AI23="","",IF(AI23="Preventivo",25%,IF(AI23="Detectivo",15%,IF(AI23="Correctivo",10%)))) | AL23: =IF(AK23="Automático",25%,IF(AK23="Manual",15%,"")) | AM23: =IF(OR(AJ23="",AL23=""),"",AJ23+AL23) | AN23: =IFERROR(IF(AH23="Probabilidad",(O23-(+O23*AM23)),IF(AH23="Impacto",O23,"")),"") | AO23: =IFERROR(IF(AH23="Impacto",(U23-(+U23*AM23)),IF(AH23="Probabilidad",U23,"")),"") | AS23: =O23 | AT23: =IF(AN23="","",MIN(AN23:AN28)) | AU23: =IFERROR(IF(AT23="","",IF(AT23<=0.2,"Muy Baja",IF(AT23<=0.4,"Baja",IF(AT23<=0.6,"Media",IF(AT23<=0.8,"Alta","Muy Alta"))))),"") | AV23: =U23 | AW23: =IF(AO23="","",MIN(AO23:AO28)) | AX23: =IFERROR(IF(AW23="","",IF(AW23<=0.2,"Leve",IF(AW23<=0.4,"Menor",IF(AW23<=0.6,"Moderado",IF(AW23<=0.8,"Mayor","Catastrófico"))))),"") | AY23: =W23 | AZ23: =IFERROR(IF(OR(AND(AU23="Muy Baja",AX23="Leve"),AND(AU23="Muy Baja",AX23="Menor"),AND(AU23="Baja",AX23="Leve")),"Bajo",IF(OR(AND(AU23="Muy baja",AX23="Moderado"),AND(AU23="Baja",AX23="Menor"),AND(AU23="Baja",AX23="Moderado"),AND(AU23="Media",AX23="Leve"),AND(AU23="Media",AX23="Menor"),AND(AU23="Media",AX23="Moderado"),AND(AU23="Alta",AX23="Leve"),AND(AU23="Alta",AX23="Menor")),"Moderado",IF(OR(AND(AU23="Muy Baja",AX23="Mayor"),AND(AU23="Baja",AX23="Mayor"),AND(AU23="Media",AX23="Mayor"),AND(AU23="Alta",AX23="Moderado"),AND(AU23="Alta",AX23="Mayor"),AND(AU23="Muy Alta",AX23="Leve"),AND(AU23="Muy Alta",AX23="Menor"),AND(AU23="Muy Alta",AX23="Moderado"),AND(AU23="Muy Alta",AX23="Mayor")),"Alto",IF(OR(AND(AU23="Muy Baja",AX23="Catastrófico"),AND(AU23="Baja",AX23="Catastrófico"),AND(AU23="Media",AX23="Catastrófico"),AND(AU23="Alta",AX23="Catastrófico"),AND(AU23="Muy Alta",AX23="Catastrófico")),"Extremo","")))),"")
X24: 2 | AH24: =IF(OR(AI24="Preventivo",AI24="Detectivo"),"Probabilidad",IF(AI24="Correctivo","Impacto","")) | AJ24: =IF(AI24="","",IF(AI24="Preventivo",25%,IF(AI24="Detectivo",15%,IF(AI24="Correctivo",10%)))) | AL24: =IF(AK24="Automático",25%,IF(AK24="Manual",15%,"")) | AM24: =IF(OR(AJ24="",AL24=""),"",AJ24+AL24) | AN24: =IFERROR(IF(AND(AH23="Probabilidad",AH24="Probabilidad"),(AN23-(+AN23*AM24)),IF(AH24="Probabilidad",(O23-(+O23*AM24)),IF(AH24="Impacto",AN23,""))),"") | AO24: =IFERROR(IF(AND(AH23="Impacto",AH24="Impacto"),(AO23-(+AO23*AM24)),IF(AH24="Impacto",(U23-(+U23*AM24)),IF(AH24="Probabilidad",AO23,""))),"")
X25: 3 | AH25: =IF(OR(AI25="Preventivo",AI25="Detectivo"),"Probabilidad",IF(AI25="Correctivo","Impacto","")) | AJ25: =IF(AI25="","",IF(AI25="Preventivo",25%,IF(AI25="Detectivo",15%,IF(AI25="Correctivo",10%)))) | AL25: =IF(AK25="Automático",25%,IF(AK25="Manual",15%,"")) | AM25: =IF(OR(AJ25="",AL25=""),"",AJ25+AL25) | AN25: =IFERROR(IF(AND(AH24="Probabilidad",AH25="Probabilidad"),(AN24-(+AN24*AM25)),IF(AND(AH24="Impacto",AH25="Probabilidad"),(AN23-(+AN23*AM25)),IF(AH25="Impacto",AN24,""))),"") | AO25: =IFERROR(IF(AND(AH24="Impacto",AH25="Impacto"),(AO24-(+AO24*AM25)),IF(AND(AH24="Probabilidad",AH25="Impacto"),(AO23-(+AO23*AM25)),IF(AH25="Probabilidad",AO24,""))),"")
X26: 4 | AH26: =IF(OR(AI26="Preventivo",AI26="Detectivo"),"Probabilidad",IF(AI26="Correctivo","Impacto","")) | AJ26: =IF(AI26="","",IF(AI26="Preventivo",25%,IF(AI26="Detectivo",15%,IF(AI26="Correctivo",10%)))) | AL26: =IF(AK26="Automático",25%,IF(AK26="Manual",15%,"")) | AM26: =IF(OR(AJ26="",AL26=""),"",AJ26+AL26) | AN26: =IFERROR(IF(AND(AH25="Probabilidad",AH26="Probabilidad"),(AN25-(+AN25*AM26)),IF(AND(AH25="Impacto",AH26="Probabilidad"),(AN24-(+AN24*AM26)),IF(AH26="Impacto",AN25,""))),"") | AO26: =IFERROR(IF(AND(AH25="Impacto",AH26="Impacto"),(AO25-(+AO25*AM26)),IF(AND(AH25="Probabilidad",AH26="Impacto"),(AO24-(+AO24*AM26)),IF(AH26="Probabilidad",AO25,""))),"")
X27: 5 | AH27: =IF(OR(AI27="Preventivo",AI27="Detectivo"),"Probabilidad",IF(AI27="Correctivo","Impacto","")) | AJ27: =IF(AI27="","",IF(AI27="Preventivo",25%,IF(AI27="Detectivo",15%,IF(AI27="Correctivo",10%)))) | AL27: =IF(AK27="Automático",25%,IF(AK27="Manual",15%,"")) | AM27: =IF(OR(AJ27="",AL27=""),"",AJ27+AL27) | AN27: =IFERROR(IF(AND(AH26="Probabilidad",AH27="Probabilidad"),(AN26-(+AN26*AM27)),IF(AND(AH26="Impacto",AH27="Probabilidad"),(AN25-(+AN25*AM27)),IF(AH27="Impacto",AN26,""))),"") | AO27: =IFERROR(IF(AND(AH26="Impacto",AH27="Impacto"),(AO26-(+AO26*AM27)),IF(AND(AH26="Probabilidad",AH27="Impacto"),(AO25-(+AO25*AM27)),IF(AH27="Probabilidad",AO26,""))),"")
X28: 6 | AH28: =IF(OR(AI28="Preventivo",AI28="Detectivo"),"Probabilidad",IF(AI28="Correctivo","Impacto","")) | AJ28: =IF(AI28="","",IF(AI28="Preventivo",25%,IF(AI28="Detectivo",15%,IF(AI28="Correctivo",10%)))) | AL28: =IF(AK28="Automático",25%,IF(AK28="Manual",15%,"")) | AM28: =IF(OR(AJ28="",AL28=""),"",AJ28+AL28) | AN28: =IFERROR(IF(AND(AH27="Probabilidad",AH28="Probabilidad"),(AN27-(+AN27*AM28)),IF(AND(AH27="Impacto",AH28="Probabilidad"),(AN26-(+AN26*AM28)),IF(AH28="Impacto",AN27,""))),"") | AO28: =IFERROR(IF(AND(AH27="Impacto",AH28="Impacto"),(AO27-(+AO27*AM28)),IF(AND(AH27="Probabilidad",AH28="Impacto"),(AO26-(+AO26*AM28)),IF(AH28="Probabilidad",AO27,""))),"")
K29: =CONCATENATE(" *",'Identificación RG-RF-RLA-FT'!C69," *",'Identificación RG-RF-RLA-FT'!E69," *",'Identificación RG-RF-RLA-FT'!G69) -> * * * | O29: =IF(N29="Muy Alta",100%,IF(N29="Alta",80%,IF(N29="Media",60%,IF(N29="Baja",40%,IF(N29="Muy Baja",20%,""))))) | Q29: =IF(P29="Catastrófico",100%,IF(P29="Mayor",80%,IF(P29="Moderado",60%,IF(P29="Menor",40%,IF(P29="Leve",20%,""))))) | S29: =IF(R29="Catastrófico",100%,IF(R29="Mayor",80%,IF(R29="Moderado",60%,IF(R29="Menor",40%,IF(R29="Leve",20%,""))))) | T29: =IF(U29=100%,"Catastrófico",IF(U29=80%,"Mayor",IF(U29=60%,"Moderado",IF(U29=40%,"Menor",IF(U29=20%,"Leve",""))))) | U29: =IF(AND(Q29="",S29=""),"",MAX(Q29,S29)) | V29: =CONCATENATE(N29,T29) | W29: =IF(V29="Muy AltaLeve","Alto",IF(V29="Muy AltaMenor","Alto",IF(V29="Muy AltaModerado","Alto",IF(V29="Muy AltaMayor","Alto",IF(V29="Muy AltaCatastrófico","Extremo",IF(V29="AltaLeve","Moderado",IF(V29="AltaMenor","Moderado",IF(V29="AltaModerado","Alto",IF(V29="AltaMayor","Alto",IF(V29="AltaCatastrófico","Extremo",IF(V29="MediaLeve","Moderado",IF(V29="MediaMenor","Moderado",IF(V29="MediaModerado","Moderado",IF(V29="MediaMayor","Alto",IF(V29="MediaCatastrófico","Extremo",IF(V29="BajaLeve","Bajo",IF(V29="BajaMenor","Moderado",IF(V29="BajaModerado","Moderado",IF(V29="BajaMayor","Alto",IF(V29="BajaCatastrófico","Extremo",IF(V29="Muy BajaLeve","Bajo",IF(V29="Muy BajaMenor","Bajo",IF(V29="Muy BajaModerado","Moderado",IF(V29="Muy BajaMayor","Alto",IF(V29="Muy BajaCatastrófico","Extremo",""))))))))))))))))))))))))) | X29: 1 | AH29: =IF(OR(AI29="Preventivo",AI29="Detectivo"),"Probabilidad",IF(AI29="Correctivo","Impacto","")) | AJ29: =IF(AI29="","",IF(AI29="Preventivo",25%,IF(AI29="Detectivo",15%,IF(AI29="Correctivo",10%)))) | AL29: =IF(AK29="Automático",25%,IF(AK29="Manual",15%,"")) | AM29: =IF(OR(AJ29="",AL29=""),"",AJ29+AL29) | AN29: =IFERROR(IF(AH29="Probabilidad",(O29-(+O29*AM29)),IF(AH29="Impacto",O29,"")),"") | AO29: =IFERROR(IF(AH29="Impacto",(U29-(+U29*AM29)),IF(AH29="Probabilidad",U29,"")),"") | AS29: =O29 | AT29: =IF(AN29="","",MIN(AN29:AN34)) | AU29: =IFERROR(IF(AT29="","",IF(AT29<=0.2,"Muy Baja",IF(AT29<=0.4,"Baja",IF(AT29<=0.6,"Media",IF(AT29<=0.8,"Alta","Muy Alta"))))),"") | AV29: =U29 | AW29: =IF(AO29="","",MIN(AO29:AO34)) | AX29: =IFERROR(IF(AW29="","",IF(AW29<=0.2,"Leve",IF(AW29<=0.4,"Menor",IF(AW29<=0.6,"Moderado",IF(AW29<=0.8,"Mayor","Catastrófico"))))),"") | AY29: =W29 | AZ29: =IFERROR(IF(OR(AND(AU29="Muy Baja",AX29="Leve"),AND(AU29="Muy Baja",AX29="Menor"),AND(AU29="Baja",AX29="Leve")),"Bajo",IF(OR(AND(AU29="Muy baja",AX29="Moderado"),AND(AU29="Baja",AX29="Menor"),AND(AU29="Baja",AX29="Moderado"),AND(AU29="Media",AX29="Leve"),AND(AU29="Media",AX29="Menor"),AND(AU29="Media",AX29="Moderado"),AND(AU29="Alta",AX29="Leve"),AND(AU29="Alta",AX29="Menor")),"Moderado",IF(OR(AND(AU29="Muy Baja",AX29="Mayor"),AND(AU29="Baja",AX29="Mayor"),AND(AU29="Media",AX29="Mayor"),AND(AU29="Alta",AX29="Moderado"),AND(AU29="Alta",AX29="Mayor"),AND(AU29="Muy Alta",AX29="Leve"),AND(AU29="Muy Alta",AX29="Menor"),AND(AU29="Muy Alta",AX29="Moderado"),AND(AU29="Muy Alta",AX29="Mayor")),"Alto",IF(OR(AND(AU29="Muy Baja",AX29="Catastrófico"),AND(AU29="Baja",AX29="Catastrófico"),AND(AU29="Media",AX29="Catastrófico"),AND(AU29="Alta",AX29="Catastrófico"),AND(AU29="Muy Alta",AX29="Catastrófico")),"Extremo","")))),"")
X30: 2 | AH30: =IF(OR(AI30="Preventivo",AI30="Detectivo"),"Probabilidad",IF(AI30="Correctivo","Impacto","")) | AJ30: =IF(AI30="","",IF(AI30="Preventivo",25%,IF(AI30="Detectivo",15%,IF(AI30="Correctivo",10%)))) | AL30: =IF(AK30="Automático",25%,IF(AK30="Manual",15%,"")) | AM30: =IF(OR(AJ30="",AL30=""),"",AJ30+AL30) | AN30: =IFERROR(IF(AND(AH29="Probabilidad",AH30="Probabilidad"),(AN29-(+AN29*AM30)),IF(AH30="Probabilidad",(O29-(+O29*AM30)),IF(AH30="Impacto",AN29,""))),"") | AO30: =IFERROR(IF(AND(AH29="Impacto",AH30="Impacto"),(AO29-(+AO29*AM30)),IF(AH30="Impacto",(U29-(+U29*AM30)),IF(AH30="Probabilidad",AO29,""))),"")
X31: 3 | AH31: =IF(OR(AI31="Preventivo",AI31="Detectivo"),"Probabilidad",IF(AI31="Correctivo","Impacto","")) | AJ31: =IF(AI31="","",IF(AI31="Preventivo",25%,IF(AI31="Detectivo",15%,IF(AI31="Correctivo",10%)))) | AL31: =IF(AK31="Automático",25%,IF(AK31="Manual",15%,"")) | AM31: =IF(OR(AJ31="",AL31=""),"",AJ31+AL31) | AN31: =IFERROR(IF(AND(AH30="Probabilidad",AH31="Probabilidad"),(AN30-(+AN30*AM31)),IF(AND(AH30="Impacto",AH31="Probabilidad"),(AN29-(+AN29*AM31)),IF(AH31="Impacto",AN30,""))),"") | AO31: =IFERROR(IF(AND(AH30="Impacto",AH31="Impacto"),(AO30-(+AO30*AM31)),IF(AND(AH30="Probabilidad",AH31="Impacto"),(AO29-(+AO29*AM31)),IF(AH31="Probabilidad",AO30,""))),"")
X32: 4 | AH32: =IF(OR(AI32="Preventivo",AI32="Detectivo"),"Probabilidad",IF(AI32="Correctivo","Impacto","")) | AJ32: =IF(AI32="","",IF(AI32="Preventivo",25%,IF(AI32="Detectivo",15%,IF(AI32="Correctivo",10%)))) | AL32: =IF(AK32="Automático",25%,IF(AK32="Manual",15%,"")) | AM32: =IF(OR(AJ32="",AL32=""),"",AJ32+AL32) | AN32: =IFERROR(IF(AND(AH31="Probabilidad",AH32="Probabilidad"),(AN31-(+AN31*AM32)),IF(AND(AH31="Impacto",AH32="Probabilidad"),(AN30-(+AN30*AM32)),IF(AH32="Impacto",AN31,""))),"") | AO32: =IFERROR(IF(AND(AH31="Impacto",AH32="Impacto"),(AO31-(+AO31*AM32)),IF(AND(AH31="Probabilidad",AH32="Impacto"),(AO30-(+AO30*AM32)),IF(AH32="Probabilidad",AO31,""))),"")
X33: 5 | AH33: =IF(OR(AI33="Preventivo",AI33="Detectivo"),"Probabilidad",IF(AI33="Correctivo","Impacto","")) | AJ33: =IF(AI33="","",IF(AI33="Preventivo",25%,IF(AI33="Detectivo",15%,IF(AI33="Correctivo",10%)))) | AL33: =IF(AK33="Automático",25%,IF(AK33="Manual",15%,"")) | AM33: =IF(OR(AJ33="",AL33=""),"",AJ33+AL33) | AN33: =IFERROR(IF(AND(AH32="Probabilidad",AH33="Probabilidad"),(AN32-(+AN32*AM33)),IF(AND(AH32="Impacto",AH33="Probabilidad"),(AN31-(+AN31*AM33)),IF(AH33="Impacto",AN32,""))),"") | AO33: =IFERROR(IF(AND(AH32="Impacto",AH33="Impacto"),(AO32-(+AO32*AM33)),IF(AND(AH32="Probabilidad",AH33="Impacto"),(AO31-(+AO31*AM33)),IF(AH33="Probabilidad",AO32,""))),"")
X34: 6 | AH34: =IF(OR(AI34="Preventivo",AI34="Detectivo"),"Probabilidad",IF(AI34="Correctivo","Impacto","")) | AJ34: =IF(AI34="","",IF(AI34="Preventivo",25%,IF(AI34="Detectivo",15%,IF(AI34="Correctivo",10%)))) | AL34: =IF(AK34="Automático",25%,IF(AK34="Manual",15%,"")) | AM34: =IF(OR(AJ34="",AL34=""),"",AJ34+AL34) | AN34: =IFERROR(IF(AND(AH33="Probabilidad",AH34="Probabilidad"),(AN33-(+AN33*AM34)),IF(AND(AH33="Impacto",AH34="Probabilidad"),(AN32-(+AN32*AM34)),IF(AH34="Impacto",AN33,""))),"") | AO34: =IFERROR(IF(AND(AH33="Impacto",AH34="Impacto"),(AO33-(+AO33*AM34)),IF(AND(AH33="Probabilidad",AH34="Impacto"),(AO32-(+AO32*AM34)),IF(AH34="Probabilidad",AO33,""))),"")
K35: =CONCATENATE(" *",'Identificación RG-RF-RLA-FT'!C86," *",'Identificación RG-RF-RLA-FT'!E86," *",'Identificación RG-RF-RLA-FT'!G86) -> * * * | O35: =IF(N35="Muy Alta",100%,IF(N35="Alta",80%,IF(N35="Media",60%,IF(N35="Baja",40%,IF(N35="Muy Baja",20%,""))))) | Q35: =IF(P35="Catastrófico",100%,IF(P35="Mayor",80%,IF(P35="Moderado",60%,IF(P35="Menor",40%,IF(P35="Leve",20%,""))))) | S35: =IF(R35="Catastrófico",100%,IF(R35="Mayor",80%,IF(R35="Moderado",60%,IF(R35="Menor",40%,IF(R35="Leve",20%,""))))) | T35: =IF(U35=100%,"Catastrófico",IF(U35=80%,"Mayor",IF(U35=60%,"Moderado",IF(U35=40%,"Menor",IF(U35=20%,"Leve",""))))) | U35: =IF(AND(Q35="",S35=""),"",MAX(Q35,S35)) | V35: =CONCATENATE(N35,T35) | W35: =IF(V35="Muy AltaLeve","Alto",IF(V35="Muy AltaMenor","Alto",IF(V35="Muy AltaModerado","Alto",IF(V35="Muy AltaMayor","Alto",IF(V35="Muy AltaCatastrófico","Extremo",IF(V35="AltaLeve","Moderado",IF(V35="AltaMenor","Moderado",IF(V35="AltaModerado","Alto",IF(V35="AltaMayor","Alto",IF(V35="AltaCatastrófico","Extremo",IF(V35="MediaLeve","Moderado",IF(V35="MediaMenor","Moderado",IF(V35="MediaModerado","Moderado",IF(V35="MediaMayor","Alto",IF(V35="MediaCatastrófico","Extremo",IF(V35="BajaLeve","Bajo",IF(V35="BajaMenor","Moderado",IF(V35="BajaModerado","Moderado",IF(V35="BajaMayor","Alto",IF(V35="BajaCatastrófico","Extremo",IF(V35="Muy BajaLeve","Bajo",IF(V35="Muy BajaMenor","Bajo",IF(V35="Muy BajaModerado","Moderado",IF(V35="Muy BajaMayor","Alto",IF(V35="Muy BajaCatastrófico","Extremo",""))))))))))))))))))))))))) | X35: 1 | AH35: =IF(OR(AI35="Preventivo",AI35="Detectivo"),"Probabilidad",IF(AI35="Correctivo","Impacto","")) | AJ35: =IF(AI35="","",IF(AI35="Preventivo",25%,IF(AI35="Detectivo",15%,IF(AI35="Correctivo",10%)))) | AL35: =IF(AK35="Automático",25%,IF(AK35="Manual",15%,"")) | AM35: =IF(OR(AJ35="",AL35=""),"",AJ35+AL35) | AN35: =IFERROR(IF(AH35="Probabilidad",(O35-(+O35*AM35)),IF(AH35="Impacto",O35,"")),"") | AO35: =IFERROR(IF(AH35="Impacto",(U35-(+U35*AM35)),IF(AH35="Probabilidad",U35,"")),"") | AS35: =O35 | AT35: =IF(AN35="","",MIN(AN35:AN40)) | AU35: =IFERROR(IF(AT35="","",IF(AT35<=0.2,"Muy Baja",IF(AT35<=0.4,"Baja",IF(AT35<=0.6,"Media",IF(AT35<=0.8,"Alta","Muy Alta"))))),"") | AV35: =U35 | AW35: =IF(AO35="","",MIN(AO35:AO40)) | AX35: =IFERROR(IF(AW35="","",IF(AW35<=0.2,"Leve",IF(AW35<=0.4,"Menor",IF(AW35<=0.6,"Moderado",IF(AW35<=0.8,"Mayor","Catastrófico"))))),"") | AY35: =W35 | AZ35: =IFERROR(IF(OR(AND(AU35="Muy Baja",AX35="Leve"),AND(AU35="Muy Baja",AX35="Menor"),AND(AU35="Baja",AX35="Leve")),"Bajo",IF(OR(AND(AU35="Muy baja",AX35="Moderado"),AND(AU35="Baja",AX35="Menor"),AND(AU35="Baja",AX35="Moderado"),AND(AU35="Media",AX35="Leve"),AND(AU35="Media",AX35="Menor"),AND(AU35="Media",AX35="Moderado"),AND(AU35="Alta",AX35="Leve"),AND(AU35="Alta",AX35="Menor")),"Moderado",IF(OR(AND(AU35="Muy Baja",AX35="Mayor"),AND(AU35="Baja",AX35="Mayor"),AND(AU35="Media",AX35="Mayor"),AND(AU35="Alta",AX35="Moderado"),AND(AU35="Alta",AX35="Mayor"),AND(AU35="Muy Alta",AX35="Leve"),AND(AU35="Muy Alta",AX35="Menor"),AND(AU35="Muy Alta",AX35="Moderado"),AND(AU35="Muy Alta",AX35="Mayor")),"Alto",IF(OR(AND(AU35="Muy Baja",AX35="Catastrófico"),AND(AU35="Baja",AX35="Catastrófico"),AND(AU35="Media",AX35="Catastrófico"),AND(AU35="Alta",AX35="Catastrófico"),AND(AU35="Muy Alta",AX35="Catastrófico")),"Extremo","")))),"")
X36: 2 | AH36: =IF(OR(AI36="Preventivo",AI36="Detectivo"),"Probabilidad",IF(AI36="Correctivo","Impacto","")) | AJ36: =IF(AI36="","",IF(AI36="Preventivo",25%,IF(AI36="Detectivo",15%,IF(AI36="Correctivo",10%)))) | AL36: =IF(AK36="Automático",25%,IF(AK36="Manual",15%,"")) | AM36: =IF(OR(AJ36="",AL36=""),"",AJ36+AL36) | AN36: =IFERROR(IF(AND(AH35="Probabilidad",AH36="Probabilidad"),(AN35-(+AN35*AM36)),IF(AH36="Probabilidad",(O35-(+O35*AM36)),IF(AH36="Impacto",AN35,""))),"") | AO36: =IFERROR(IF(AND(AH35="Impacto",AH36="Impacto"),(AO35-(+AO35*AM36)),IF(AH36="Impacto",(U35-(+U35*AM36)),IF(AH36="Probabilidad",AO35,""))),"")
X37: 3 | AH37: =IF(OR(AI37="Preventivo",AI37="Detectivo"),"Probabilidad",IF(AI37="Correctivo","Impacto","")) | AJ37: =IF(AI37="","",IF(AI37="Preventivo",25%,IF(AI37="Detectivo",15%,IF(AI37="Correctivo",10%)))) | AL37: =IF(AK37="Automático",25%,IF(AK37="Manual",15%,"")) | AM37: =IF(OR(AJ37="",AL37=""),"",AJ37+AL37) | AN37: =IFERROR(IF(AND(AH36="Probabilidad",AH37="Probabilidad"),(AN36-(+AN36*AM37)),IF(AND(AH36="Impacto",AH37="Probabilidad"),(AN35-(+AN35*AM37)),IF(AH37="Impacto",AN36,""))),"") | AO37: =IFERROR(IF(AND(AH36="Impacto",AH37="Impacto"),(AO36-(+AO36*AM37)),IF(AND(AH36="Probabilidad",AH37="Impacto"),(AO35-(+AO35*AM37)),IF(AH37="Probabilidad",AO36,""))),"")
X38: 4 | AH38: =IF(OR(AI38="Preventivo",AI38="Detectivo"),"Probabilidad",IF(AI38="Correctivo","Impacto","")) | AJ38: =IF(AI38="","",IF(AI38="Preventivo",25%,IF(AI38="Detectivo",15%,IF(AI38="Correctivo",10%)))) | AL38: =IF(AK38="Automático",25%,IF(AK38="Manual",15%,"")) | AM38: =IF(OR(AJ38="",AL38=""),"",AJ38+AL38) | AN38: =IFERROR(IF(AND(AH37="Probabilidad",AH38="Probabilidad"),(AN37-(+AN37*AM38)),IF(AND(AH37="Impacto",AH38="Probabilidad"),(AN36-(+AN36*AM38)),IF(AH38="Impacto",AN37,""))),"") | AO38: =IFERROR(IF(AND(AH37="Impacto",AH38="Impacto"),(AO37-(+AO37*AM38)),IF(AND(AH37="Probabilidad",AH38="Impacto"),(AO36-(+AO36*AM38)),IF(AH38="Probabilidad",AO37,""))),"")
X39: 5 | AH39: =IF(OR(AI39="Preventivo",AI39="Detectivo"),"Probabilidad",IF(AI39="Correctivo","Impacto","")) | AJ39: =IF(AI39="","",IF(AI39="Preventivo",25%,IF(AI39="Detectivo",15%,IF(AI39="Correctivo",10%)))) | AL39: =IF(AK39="Automático",25%,IF(AK39="Manual",15%,"")) | AM39: =IF(OR(AJ39="",AL39=""),"",AJ39+AL39) | AN39: =IFERROR(IF(AND(AH38="Probabilidad",AH39="Probabilidad"),(AN38-(+AN38*AM39)),IF(AND(AH38="Impacto",AH39="Probabilidad"),(AN37-(+AN37*AM39)),IF(AH39="Impacto",AN38,""))),"") | AO39: =IFERROR(IF(AND(AH38="Impacto",AH39="Impacto"),(AO38-(+AO38*AM39)),IF(AND(AH38="Probabilidad",AH39="Impacto"),(AO37-(+AO37*AM39)),IF(AH39="Probabilidad",AO38,""))),"")
X40: 6 | AH40: =IF(OR(AI40="Preventivo",AI40="Detectivo"),"Probabilidad",IF(AI40="Correctivo","Impacto","")) | AJ40: =IF(AI40="","",IF(AI40="Preventivo",25%,IF(AI40="Detectivo",15%,IF(AI40="Correctivo",10%)))) | AL40: =IF(AK40="Automático",25%,IF(AK40="Manual",15%,"")) | AM40: =IF(OR(AJ40="",AL40=""),"",AJ40+AL40) | AN40: =IFERROR(IF(AND(AH39="Probabilidad",AH40="Probabilidad"),(AN39-(+AN39*AM40)),IF(AND(AH39="Impacto",AH40="Probabilidad"),(AN38-(+AN38*AM40)),IF(AH40="Impacto",AN39,""))),"") | AO40: =IFERROR(IF(AND(AH39="Impacto",AH40="Impacto"),(AO39-(+AO39*AM40)),IF(AND(AH39="Probabilidad",AH40="Impacto"),(AO38-(+AO38*AM40)),IF(AH40="Probabilidad",AO39,""))),"")
